Package: Rgraphviz Version: 2.51.0 Command: E:\biocbuild\bbs-3.21-bioc\R\bin\R.exe CMD check --no-multiarch --install=check:Rgraphviz.install-out.txt --library=E:\biocbuild\bbs-3.21-bioc\R\library --no-vignettes --timings Rgraphviz_2.51.0.tar.gz StartedAt: 2025-02-10 04:41:36 -0500 (Mon, 10 Feb 2025) EndedAt: 2025-02-10 04:43:03 -0500 (Mon, 10 Feb 2025) EllapsedTime: 86.5 seconds RetCode: 0 Status: WARNINGS CheckDir: Rgraphviz.Rcheck Warnings: 1