Package: Rgraphviz Version: 2.51.0 Command: E:\biocbuild\bbs-3.21-bioc\R\bin\R.exe CMD INSTALL Rgraphviz StartedAt: 2025-02-09 15:22:52 -0500 (Sun, 09 Feb 2025) EndedAt: 2025-02-09 15:46:10 -0500 (Sun, 09 Feb 2025) EllapsedTime: 1397.7 seconds RetCode: 0 Status: OK