Package: Rhdf5lib Version: 1.29.0 Command: /Library/Frameworks/R.framework/Resources/bin/R CMD build --keep-empty-dirs --no-resave-data Rhdf5lib StartedAt: 2025-02-09 17:24:07 -0500 (Sun, 09 Feb 2025) EndedAt: 2025-02-09 17:26:02 -0500 (Sun, 09 Feb 2025) EllapsedTime: 115.2 seconds RetCode: 0 Status: OK PackageFile: Rhdf5lib_1.29.0.tar.gz PackageFileSize: 11.5 MiB