Package: Rhdf5lib Version: 1.29.0 Command: /home/biocbuild/R/R/bin/R CMD INSTALL Rhdf5lib StartedAt: 2025-01-29 19:30:14 -0000 (Wed, 29 Jan 2025) EndedAt: 2025-01-29 19:35:50 -0000 (Wed, 29 Jan 2025) EllapsedTime: 336.0 seconds RetCode: 0 Status: OK