Package: Rhdf5lib Version: 1.29.0 Command: /home/biocbuild/bbs-3.21-bioc/R/bin/R CMD check --install=check:Rhdf5lib.install-out.txt --library=/home/biocbuild/bbs-3.21-bioc/R/site-library --timings Rhdf5lib_1.29.0.tar.gz StartedAt: 2025-02-10 01:54:15 -0500 (Mon, 10 Feb 2025) EndedAt: 2025-02-10 01:54:35 -0500 (Mon, 10 Feb 2025) EllapsedTime: 20.1 seconds RetCode: 0 Status: WARNINGS CheckDir: Rhdf5lib.Rcheck Warnings: 1