Package: Rhdf5lib Version: 1.29.0 Command: chmod a+r Rhdf5lib -R && E:\biocbuild\bbs-3.21-bioc\R\bin\R.exe CMD build --keep-empty-dirs --no-resave-data Rhdf5lib StartedAt: 2025-02-12 21:18:07 -0500 (Wed, 12 Feb 2025) EndedAt: 2025-02-12 21:19:07 -0500 (Wed, 12 Feb 2025) EllapsedTime: 59.1 seconds RetCode: 0 Status: OK PackageFile: Rhdf5lib_1.29.0.tar.gz PackageFileSize: 11.5 MiB