Package: Rhdf5lib Version: 1.29.0 Command: E:\biocbuild\bbs-3.21-bioc\R\bin\R.exe CMD INSTALL Rhdf5lib StartedAt: 2025-02-09 15:19:36 -0500 (Sun, 09 Feb 2025) EndedAt: 2025-02-09 15:20:19 -0500 (Sun, 09 Feb 2025) EllapsedTime: 43.1 seconds RetCode: 0 Status: OK