Package: Rhisat2 Version: 1.23.0 Command: /home/biocbuild/R/R/bin/R CMD build --keep-empty-dirs --no-resave-data Rhisat2 StartedAt: 2025-01-29 01:41:22 -0000 (Wed, 29 Jan 2025) EndedAt: 2025-01-29 01:47:05 -0000 (Wed, 29 Jan 2025) EllapsedTime: 342.3 seconds RetCode: 0 Status: OK PackageFile: Rhisat2_1.23.0.tar.gz PackageFileSize: 6.774 MiB