Package: Rhisat2 Version: 1.23.0 Command: /home/biocbuild/R/R/bin/R CMD check --install=check:Rhisat2.install-out.txt --library=/home/biocbuild/R/R/site-library --no-vignettes --timings Rhisat2_1.23.0.tar.gz StartedAt: 2025-01-28 14:31:45 -0000 (Tue, 28 Jan 2025) EndedAt: 2025-01-28 14:37:49 -0000 (Tue, 28 Jan 2025) EllapsedTime: 364.3 seconds RetCode: 0 Status: WARNINGS CheckDir: Rhisat2.Rcheck Warnings: 5