Package: Rhisat2 Version: 1.23.0 Command: /home/biocbuild/R/R/bin/R CMD INSTALL Rhisat2 StartedAt: 2025-01-29 20:03:05 -0000 (Wed, 29 Jan 2025) EndedAt: 2025-01-29 20:08:48 -0000 (Wed, 29 Jan 2025) EllapsedTime: 342.9 seconds RetCode: 0 Status: OK