Package: Rhisat2 Version: 1.23.0 Command: /Library/Frameworks/R.framework/Resources/bin/R CMD INSTALL Rhisat2 StartedAt: 2025-02-09 15:20:34 -0500 (Sun, 09 Feb 2025) EndedAt: 2025-02-09 15:23:31 -0500 (Sun, 09 Feb 2025) EllapsedTime: 176.5 seconds RetCode: 0 Status: OK