Package: Rhisat2 Version: 1.23.0 Command: E:\biocbuild\bbs-3.21-bioc\R\bin\R.exe CMD check --no-multiarch --install=check:Rhisat2.install-out.txt --library=E:\biocbuild\bbs-3.21-bioc\R\library --no-vignettes --timings Rhisat2_1.23.0.tar.gz StartedAt: 2025-02-10 04:42:30 -0500 (Mon, 10 Feb 2025) EndedAt: 2025-02-10 04:47:59 -0500 (Mon, 10 Feb 2025) EllapsedTime: 328.4 seconds RetCode: 0 Status: WARNINGS CheckDir: Rhisat2.Rcheck Warnings: 1