Package: Rhtslib Version: 3.3.1 Command: rm -rf Rhtslib.buildbin-libdir && mkdir Rhtslib.buildbin-libdir && /Users/biocbuild/BBS/utils/build-universal.sh Rhtslib_3.3.1.tar.gz /Library/Frameworks/R.framework/Resources/bin/R Rhtslib.buildbin-libdir StartedAt: 2025-02-09 22:27:35 -0500 (Sun, 09 Feb 2025) EndedAt: 2025-02-09 22:27:51 -0500 (Sun, 09 Feb 2025) EllapsedTime: 16.2 seconds RetCode: 0 Status: OK PackageFile: Rhtslib_3.3.1.tgz PackageFileSize: 3.214 MiB