Package: Rhtslib Version: 3.3.1 Command: /Library/Frameworks/R.framework/Resources/bin/R CMD build --keep-empty-dirs --no-resave-data Rhtslib StartedAt: 2025-02-09 17:24:21 -0500 (Sun, 09 Feb 2025) EndedAt: 2025-02-09 17:24:39 -0500 (Sun, 09 Feb 2025) EllapsedTime: 18.2 seconds RetCode: 0 Status: OK PackageFile: Rhtslib_3.3.1.tar.gz PackageFileSize: 4.91 MiB