Package: Rhtslib Version: 3.3.1 Command: /home/biocbuild/R/R/bin/R CMD build --keep-empty-dirs --no-resave-data Rhtslib StartedAt: 2025-01-29 01:41:26 -0000 (Wed, 29 Jan 2025) EndedAt: 2025-01-29 01:43:49 -0000 (Wed, 29 Jan 2025) EllapsedTime: 143.1 seconds RetCode: 0 Status: OK PackageFile: Rhtslib_3.3.1.tar.gz PackageFileSize: 4.934 MiB