Package: Rhtslib Version: 3.3.1 Command: /home/biocbuild/R/R/bin/R CMD check --install=check:Rhtslib.install-out.txt --library=/home/biocbuild/R/R/site-library --no-vignettes --timings Rhtslib_3.3.1.tar.gz StartedAt: 2025-01-28 14:31:47 -0000 (Tue, 28 Jan 2025) EndedAt: 2025-01-28 14:32:04 -0000 (Tue, 28 Jan 2025) EllapsedTime: 17.0 seconds RetCode: 0 Status: OK CheckDir: Rhtslib.Rcheck Warnings: 0