Package: Rhtslib Version: 3.3.1 Command: rm -rf Rhtslib.buildbin-libdir && mkdir Rhtslib.buildbin-libdir && /Users/biocbuild/BBS/utils/build-universal.sh Rhtslib_3.3.1.tar.gz /Library/Frameworks/R.framework/Resources/bin/R Rhtslib.buildbin-libdir StartedAt: 2025-02-10 01:11:55 -0500 (Mon, 10 Feb 2025) EndedAt: 2025-02-10 01:12:52 -0500 (Mon, 10 Feb 2025) EllapsedTime: 57.3 seconds RetCode: 0 Status: OK PackageFile: Rhtslib_3.3.1.tgz PackageFileSize: 3.31 MiB