Package: Rhtslib Version: 3.3.1 Command: /Library/Frameworks/R.framework/Resources/bin/R CMD INSTALL Rhtslib StartedAt: 2025-02-09 15:06:38 -0500 (Sun, 09 Feb 2025) EndedAt: 2025-02-09 15:07:33 -0500 (Sun, 09 Feb 2025) EllapsedTime: 54.3 seconds RetCode: 0 Status: OK