Package: Rhtslib Version: 3.3.1 Command: set _R_INSTALL_TIME_PATCHES_=no&& E:\biocbuild\bbs-3.21-bioc\R\bin\R.exe CMD INSTALL Rhtslib StartedAt: 2025-02-09 15:26:28 -0500 (Sun, 09 Feb 2025) EndedAt: 2025-02-09 15:28:25 -0500 (Sun, 09 Feb 2025) EllapsedTime: 117.4 seconds RetCode: 0 Status: OK