Package: RiboCrypt Version: 1.13.0 Command: /Library/Frameworks/R.framework/Resources/bin/R CMD build --keep-empty-dirs --no-resave-data RiboCrypt StartedAt: 2025-02-04 17:24:33 -0500 (Tue, 04 Feb 2025) EndedAt: 2025-02-04 17:25:05 -0500 (Tue, 04 Feb 2025) EllapsedTime: 32.3 seconds RetCode: 0 Status: OK PackageFile: RiboCrypt_1.13.0.tar.gz PackageFileSize: 5.657 MiB