Package: RiboCrypt Version: 1.13.0 Command: /home/biocbuild/R/R/bin/R CMD build --keep-empty-dirs --no-resave-data RiboCrypt StartedAt: 2025-01-29 01:41:38 -0000 (Wed, 29 Jan 2025) EndedAt: 2025-01-29 01:43:30 -0000 (Wed, 29 Jan 2025) EllapsedTime: 112.1 seconds RetCode: 0 Status: OK PackageFile: RiboCrypt_1.13.0.tar.gz PackageFileSize: 6.266 MiB