Package: RiboCrypt Version: 1.13.0 Command: /home/biocbuild/R/R/bin/R CMD check --install=check:RiboCrypt.install-out.txt --library=/home/biocbuild/R/R/site-library --no-vignettes --timings RiboCrypt_1.13.0.tar.gz StartedAt: 2025-01-28 14:31:48 -0000 (Tue, 28 Jan 2025) EndedAt: 2025-01-28 14:38:37 -0000 (Tue, 28 Jan 2025) EllapsedTime: 409.4 seconds RetCode: 0 Status: WARNINGS CheckDir: RiboCrypt.Rcheck Warnings: 5