Package: RiboCrypt Version: 1.13.0 Command: /Library/Frameworks/R.framework/Resources/bin/R CMD build --keep-empty-dirs --no-resave-data RiboCrypt StartedAt: 2025-02-09 18:10:13 -0500 (Sun, 09 Feb 2025) EndedAt: 2025-02-09 18:11:47 -0500 (Sun, 09 Feb 2025) EllapsedTime: 93.8 seconds RetCode: 0 Status: OK PackageFile: RiboCrypt_1.13.0.tar.gz PackageFileSize: 5.657 MiB