Package: RiboCrypt Version: 1.13.0 Command: /home/biocbuild/bbs-3.21-bioc/R/bin/R CMD build --keep-empty-dirs --no-resave-data RiboCrypt StartedAt: 2025-02-09 18:55:47 -0500 (Sun, 09 Feb 2025) EndedAt: 2025-02-09 18:57:06 -0500 (Sun, 09 Feb 2025) EllapsedTime: 79.1 seconds RetCode: 0 Status: OK PackageFile: RiboCrypt_1.13.0.tar.gz PackageFileSize: 5.657 MiB