Package: RiboDiPA Version: 1.15.1 Command: /Library/Frameworks/R.framework/Resources/bin/R CMD build --keep-empty-dirs --no-resave-data RiboDiPA StartedAt: 2025-02-12 17:24:30 -0500 (Wed, 12 Feb 2025) EndedAt: 2025-02-12 17:26:43 -0500 (Wed, 12 Feb 2025) EllapsedTime: 132.4 seconds RetCode: 0 Status: OK PackageFile: RiboDiPA_1.15.1.tar.gz PackageFileSize: 1.821 MiB