Package: RiboDiPA Version: 1.15.1 Command: /Library/Frameworks/R.framework/Resources/bin/R CMD check --install=check:RiboDiPA.install-out.txt --library=/Library/Frameworks/R.framework/Resources/library --no-vignettes --timings RiboDiPA_1.15.1.tar.gz StartedAt: 2025-02-09 20:58:03 -0500 (Sun, 09 Feb 2025) EndedAt: 2025-02-09 21:02:20 -0500 (Sun, 09 Feb 2025) EllapsedTime: 256.1 seconds RetCode: 0 Status: OK CheckDir: RiboDiPA.Rcheck Warnings: 0