Package: RiboDiPA Version: 1.15.1 Command: /Library/Frameworks/R.framework/Resources/bin/R CMD INSTALL RiboDiPA StartedAt: 2025-02-09 15:13:49 -0500 (Sun, 09 Feb 2025) EndedAt: 2025-02-09 15:14:08 -0500 (Sun, 09 Feb 2025) EllapsedTime: 19.5 seconds RetCode: 0 Status: OK