Package: RiboDiPA Version: 1.15.1 Command: /home/biocbuild/bbs-3.21-bioc/R/bin/R CMD INSTALL RiboDiPA StartedAt: 2025-02-09 15:38:42 -0500 (Sun, 09 Feb 2025) EndedAt: 2025-02-09 15:39:34 -0500 (Sun, 09 Feb 2025) EllapsedTime: 52.3 seconds RetCode: 0 Status: OK