Package: RiboDiPA Version: 1.15.1 Command: rm -rf RiboDiPA.buildbin-libdir && mkdir RiboDiPA.buildbin-libdir && E:\biocbuild\bbs-3.21-bioc\R\bin\R.exe CMD INSTALL --build --library=RiboDiPA.buildbin-libdir RiboDiPA_1.15.1.tar.gz StartedAt: 2025-02-10 08:33:16 -0500 (Mon, 10 Feb 2025) EndedAt: 2025-02-10 08:34:24 -0500 (Mon, 10 Feb 2025) EllapsedTime: 67.7 seconds RetCode: 0 Status: OK PackageFile: RiboDiPA_1.15.1.zip PackageFileSize: 1.598 MiB