Package: RiboDiPA Version: 1.15.1 Command: chmod a+r RiboDiPA -R && E:\biocbuild\bbs-3.21-bioc\R\bin\R.exe CMD build --keep-empty-dirs --no-resave-data RiboDiPA StartedAt: 2025-02-09 21:12:15 -0500 (Sun, 09 Feb 2025) EndedAt: 2025-02-09 21:19:28 -0500 (Sun, 09 Feb 2025) EllapsedTime: 433.3 seconds RetCode: 0 Status: OK PackageFile: RiboDiPA_1.15.1.tar.gz PackageFileSize: 1.573 MiB