Package: RiboProfiling Version: 1.37.0 Maintainer: A. Popa MaintainerEmail: alexandra.mariela.popa at gmail.com git_url: https://git.bioconductor.org/packages/RiboProfiling git_branch: devel git_last_commit: c7c7bd6 git_last_commit_date: 2024-10-29 10:04:38 -0500 (Tue, 29 Oct 2024)