Package: RiboProfiling Version: 1.37.0 Command: /Library/Frameworks/R.framework/Resources/bin/R CMD check --install=check:RiboProfiling.install-out.txt --library=/Library/Frameworks/R.framework/Resources/library --no-vignettes --timings RiboProfiling_1.37.0.tar.gz StartedAt: 2025-02-12 21:02:38 -0500 (Wed, 12 Feb 2025) EndedAt: 2025-02-12 21:06:51 -0500 (Wed, 12 Feb 2025) EllapsedTime: 252.9 seconds RetCode: 0 Status: WARNINGS CheckDir: RiboProfiling.Rcheck Warnings: 1