Package: RiboProfiling Version: 1.37.0 Command: /Library/Frameworks/R.framework/Resources/bin/R CMD INSTALL RiboProfiling StartedAt: 2025-02-09 15:29:24 -0500 (Sun, 09 Feb 2025) EndedAt: 2025-02-09 15:30:33 -0500 (Sun, 09 Feb 2025) EllapsedTime: 68.8 seconds RetCode: 0 Status: OK