Package: RiboProfiling Version: 1.37.0 Command: /home/biocbuild/bbs-3.21-bioc/R/bin/R CMD check --install=check:RiboProfiling.install-out.txt --library=/home/biocbuild/bbs-3.21-bioc/R/site-library --timings RiboProfiling_1.37.0.tar.gz StartedAt: 2025-02-10 01:54:49 -0500 (Mon, 10 Feb 2025) EndedAt: 2025-02-10 02:07:42 -0500 (Mon, 10 Feb 2025) EllapsedTime: 773.1 seconds RetCode: 0 Status: WARNINGS CheckDir: RiboProfiling.Rcheck Warnings: 1