Package: RiboProfiling Version: 1.37.0 Command: /home/biocbuild/bbs-3.21-bioc/R/bin/R CMD INSTALL RiboProfiling StartedAt: 2025-02-12 15:45:59 -0500 (Wed, 12 Feb 2025) EndedAt: 2025-02-12 15:46:49 -0500 (Wed, 12 Feb 2025) EllapsedTime: 50.0 seconds RetCode: 0 Status: OK