Package: Risa Version: 1.47.1 Command: /home/biocbuild/bbs-3.21-bioc/R/bin/R CMD build --keep-empty-dirs --no-resave-data Risa StartedAt: 2024-10-24 05:27:27 -0400 (Thu, 24 Oct 2024) EndedAt: 2024-10-24 05:28:20 -0400 (Thu, 24 Oct 2024) EllapsedTime: 53.1 seconds RetCode: 1 Status: ERROR PackageFile: None PackageFileSize: NA