Package: RnBeads Version: 2.25.0 Command: rm -rf RnBeads.buildbin-libdir && mkdir RnBeads.buildbin-libdir && /Users/biocbuild/BBS/utils/build-universal.sh RnBeads_2.25.0.tar.gz /Library/Frameworks/R.framework/Resources/bin/R RnBeads.buildbin-libdir StartedAt: 2025-02-04 22:30:13 -0500 (Tue, 04 Feb 2025) EndedAt: 2025-02-04 22:30:47 -0500 (Tue, 04 Feb 2025) EllapsedTime: 33.7 seconds RetCode: 0 Status: OK PackageFile: RnBeads_2.25.0.tgz PackageFileSize: 7.935 MiB