Package: RnBeads Version: 2.25.0 Command: /Library/Frameworks/R.framework/Resources/bin/R CMD check --install=check:RnBeads.install-out.txt --library=/Library/Frameworks/R.framework/Resources/library --no-vignettes --timings RnBeads_2.25.0.tar.gz StartedAt: 2025-02-09 21:02:29 -0500 (Sun, 09 Feb 2025) EndedAt: 2025-02-09 21:07:54 -0500 (Sun, 09 Feb 2025) EllapsedTime: 325.0 seconds RetCode: 0 Status: OK CheckDir: RnBeads.Rcheck Warnings: 0