Package: RnBeads Version: 2.25.0 Command: /Library/Frameworks/R.framework/Resources/bin/R CMD INSTALL RnBeads StartedAt: 2025-02-09 15:27:26 -0500 (Sun, 09 Feb 2025) EndedAt: 2025-02-09 15:27:57 -0500 (Sun, 09 Feb 2025) EllapsedTime: 30.8 seconds RetCode: 0 Status: OK