Package: RnBeads Version: 2.25.0 Command: /home/biocbuild/R/R/bin/R CMD build --keep-empty-dirs --no-resave-data RnBeads StartedAt: 2025-01-29 01:47:41 -0000 (Wed, 29 Jan 2025) EndedAt: 2025-01-29 01:50:35 -0000 (Wed, 29 Jan 2025) EllapsedTime: 174.1 seconds RetCode: 0 Status: OK PackageFile: RnBeads_2.25.0.tar.gz PackageFileSize: 7.557 MiB