Package: RnBeads Version: 2.25.0 Command: /home/biocbuild/R/R/bin/R CMD INSTALL RnBeads StartedAt: 2025-01-29 20:34:41 -0000 (Wed, 29 Jan 2025) EndedAt: 2025-01-29 20:36:39 -0000 (Wed, 29 Jan 2025) EllapsedTime: 118.6 seconds RetCode: 0 Status: OK