Package: RnBeads Version: 2.25.0 Command: rm -rf RnBeads.buildbin-libdir && mkdir RnBeads.buildbin-libdir && /Users/biocbuild/BBS/utils/build-universal.sh RnBeads_2.25.0.tar.gz /Library/Frameworks/R.framework/Resources/bin/R RnBeads.buildbin-libdir StartedAt: 2025-02-05 00:58:46 -0500 (Wed, 05 Feb 2025) EndedAt: 2025-02-05 01:00:42 -0500 (Wed, 05 Feb 2025) EllapsedTime: 115.5 seconds RetCode: 0 Status: OK PackageFile: RnBeads_2.25.0.tgz PackageFileSize: 7.918 MiB