Package: RnBeads Version: 2.25.0 Command: /Library/Frameworks/R.framework/Resources/bin/R CMD build --keep-empty-dirs --no-resave-data RnBeads StartedAt: 2025-02-04 18:05:33 -0500 (Tue, 04 Feb 2025) EndedAt: 2025-02-04 18:08:21 -0500 (Tue, 04 Feb 2025) EllapsedTime: 168.3 seconds RetCode: 0 Status: OK PackageFile: RnBeads_2.25.0.tar.gz PackageFileSize: 7.565 MiB