Package: RnBeads Version: 2.25.0 Command: /home/biocbuild/bbs-3.21-bioc/R/bin/R CMD build --keep-empty-dirs --no-resave-data RnBeads StartedAt: 2025-02-09 18:59:09 -0500 (Sun, 09 Feb 2025) EndedAt: 2025-02-09 19:01:24 -0500 (Sun, 09 Feb 2025) EllapsedTime: 135.2 seconds RetCode: 0 Status: OK PackageFile: RnBeads_2.25.0.tar.gz PackageFileSize: 7.564 MiB