Package: RnBeads Version: 2.25.0 Command: /home/biocbuild/bbs-3.21-bioc/R/bin/R CMD check --install=check:RnBeads.install-out.txt --library=/home/biocbuild/bbs-3.21-bioc/R/site-library --timings RnBeads_2.25.0.tar.gz StartedAt: 2025-02-10 02:01:44 -0500 (Mon, 10 Feb 2025) EndedAt: 2025-02-10 02:13:27 -0500 (Mon, 10 Feb 2025) EllapsedTime: 703.1 seconds RetCode: 0 Status: OK CheckDir: RnBeads.Rcheck Warnings: 0