Package: RnBeads Version: 2.25.0 Command: /home/biocbuild/bbs-3.21-bioc/R/bin/R CMD INSTALL RnBeads StartedAt: 2025-02-09 15:59:06 -0500 (Sun, 09 Feb 2025) EndedAt: 2025-02-09 16:00:27 -0500 (Sun, 09 Feb 2025) EllapsedTime: 81.6 seconds RetCode: 0 Status: OK