Package: RnBeads Version: 2.25.0 Command: E:\biocbuild\bbs-3.21-bioc\R\bin\R.exe CMD check --no-multiarch --install=check:RnBeads.install-out.txt --library=E:\biocbuild\bbs-3.21-bioc\R\library --no-vignettes --timings RnBeads_2.25.0.tar.gz StartedAt: 2025-02-10 04:49:29 -0500 (Mon, 10 Feb 2025) EndedAt: 2025-02-10 05:02:37 -0500 (Mon, 10 Feb 2025) EllapsedTime: 787.9 seconds RetCode: 0 Status: OK CheckDir: RnBeads.Rcheck Warnings: 0