Package: RnBeads Version: 2.25.0 Command: E:\biocbuild\bbs-3.21-bioc\R\bin\R.exe CMD INSTALL RnBeads StartedAt: 2025-02-09 17:00:32 -0500 (Sun, 09 Feb 2025) EndedAt: 2025-02-09 17:02:29 -0500 (Sun, 09 Feb 2025) EllapsedTime: 117.0 seconds RetCode: 0 Status: OK