Package: RnaSeqSampleSize Version: 2.17.0 Command: /Library/Frameworks/R.framework/Resources/bin/R CMD check --install=check:RnaSeqSampleSize.install-out.txt --library=/Library/Frameworks/R.framework/Resources/library --no-vignettes --timings RnaSeqSampleSize_2.17.0.tar.gz StartedAt: 2025-02-09 21:02:27 -0500 (Sun, 09 Feb 2025) EndedAt: 2025-02-09 21:05:00 -0500 (Sun, 09 Feb 2025) EllapsedTime: 153.8 seconds RetCode: 0 Status: OK CheckDir: RnaSeqSampleSize.Rcheck Warnings: 0