Package: RnaSeqSampleSize Version: 2.17.0 Command: /Library/Frameworks/R.framework/Resources/bin/R CMD INSTALL RnaSeqSampleSize StartedAt: 2025-02-09 15:28:58 -0500 (Sun, 09 Feb 2025) EndedAt: 2025-02-09 15:29:18 -0500 (Sun, 09 Feb 2025) EllapsedTime: 20.7 seconds RetCode: 0 Status: OK